BEGIN:VCALENDAR
VERSION:2.0
PRODID:-//Target Fixings - ECPv6.15.18//NONSGML v1.0//EN
CALSCALE:GREGORIAN
METHOD:PUBLISH
X-WR-CALNAME:Target Fixings
X-ORIGINAL-URL:https://targetfixings.co.uk
X-WR-CALDESC:Events for Target Fixings
REFRESH-INTERVAL;VALUE=DURATION:PT1H
X-Robots-Tag:noindex
X-PUBLISHED-TTL:PT1H
BEGIN:VTIMEZONE
TZID:UTC
BEGIN:STANDARD
TZOFFSETFROM:+0000
TZOFFSETTO:+0000
TZNAME:UTC
DTSTART:20250101T000000
END:STANDARD
END:VTIMEZONE
BEGIN:VEVENT
DTSTART;TZID=UTC:20260507T083000
DTEND;TZID=UTC:20260507T113000
DTSTAMP:20260421T163756
CREATED:20260415T104714Z
LAST-MODIFIED:20260415T114904Z
UID:11983-1778142600-1778153400@targetfixings.co.uk
SUMMARY:Free CPD Masonry Reinforcement - Worcestershire County Cricket Ground
DESCRIPTION:Rob Hill – Our presenter and part of our Technical Department\nJoin Target Fixings at the iconic Worcestershire County Cricket Club for an exclusive\, complimentary seminar on the latest innovations in Masonry Reinforcement and Repair. As a team that designs\, manufactures\, and installs our own specialist systems\, we provide a rare “concept-to-completion” perspective that bridges the gap between theory and site reality. \n    \nWhy Join Us? \nThis is more than a lecture – it’s a chance to solve structural challenges alongside the experts who build the solutions. \n3 Hours CPD Accreditation: Walk away with formal certification to support your 2026 professional goals. \nManufacturer Insights: Master modern reinforcement techniques\, crack stitching\, and masonry longevity directly from the source. \nLocal Networking: Connect with fellow surveyors\, developers\, and engineers from across the Worcestershire region. \nBreakfast is on Us: Kickstart your morning with a full complimentary breakfast and fresh coffee overlooking the pitch. \n     \nEvent Logistics \nWhen: Thursday\, 7th May\nWhere: Worcestershire Cricket Ground\, New Rd\, Worcester\, WR2 4QQ\nArrival: 8:15 AM (Grab your breakfast and a seat)\nPresentation Starts: 8:30 AM sharp \nHeli Piles can be reused for temporary structures\n \nSecure Your Spot \nOur regional events fill up quickly and capacity at the ground is strictly limited. Don’t miss this opportunity to upgrade your technical toolkit and your professional network simultaneously. \nTo register you can email seanqueenan@targetfixings.co.uk or you can register at our Linkedin event page here
URL:https://targetfixings.co.uk/event/free-cpd-worcestershire-county-cricket-ground/
LOCATION:Worcestershire County Cricket Ground\, New Road\, Worcester\, Worcestershire\, WR2 4QQ\, United Kingdom
CATEGORIES:Architects,Architecture & Planning,Building Surveyors,Business & Industry,Business & Professional,Construction,Construction & Engineering,Construction & Real Estate,Education & Training,Heritage Conservation,Masonry Reinforcement,Networking,Professional Development,Professional Development (CPD),Property Developers,Real Estate & Property,Science & Technology,Structural Engineering,Structural Engineers
ATTACH;FMTTYPE=image/jpeg:https://targetfixings.co.uk/wp-content/uploads/2026/04/Worcester-CPD.jpg
ORGANIZER;CN="Target Fixings":MAILTO:sales@targetfixings.co.uk
END:VEVENT
END:VCALENDAR